BEGIN:VCALENDAR
VERSION:2.0
PRODID:-//Wilderness Guides Council - ECPv6.15.17.1//NONSGML v1.0//EN
CALSCALE:GREGORIAN
METHOD:PUBLISH
X-ORIGINAL-URL:https://wildernessguidescouncil.org
X-WR-CALDESC:Events for Wilderness Guides Council
REFRESH-INTERVAL;VALUE=DURATION:PT1H
X-Robots-Tag:noindex
X-PUBLISHED-TTL:PT1H
BEGIN:VTIMEZONE
TZID:America/Los_Angeles
BEGIN:DAYLIGHT
TZOFFSETFROM:-0800
TZOFFSETTO:-0700
TZNAME:PDT
DTSTART:20230312T100000
END:DAYLIGHT
BEGIN:STANDARD
TZOFFSETFROM:-0700
TZOFFSETTO:-0800
TZNAME:PST
DTSTART:20231105T090000
END:STANDARD
BEGIN:DAYLIGHT
TZOFFSETFROM:-0800
TZOFFSETTO:-0700
TZNAME:PDT
DTSTART:20240310T100000
END:DAYLIGHT
BEGIN:STANDARD
TZOFFSETFROM:-0700
TZOFFSETTO:-0800
TZNAME:PST
DTSTART:20241103T090000
END:STANDARD
BEGIN:DAYLIGHT
TZOFFSETFROM:-0800
TZOFFSETTO:-0700
TZNAME:PDT
DTSTART:20250309T100000
END:DAYLIGHT
BEGIN:STANDARD
TZOFFSETFROM:-0700
TZOFFSETTO:-0800
TZNAME:PST
DTSTART:20251102T090000
END:STANDARD
END:VTIMEZONE
BEGIN:VEVENT
DTSTART;TZID=America/Los_Angeles:20240406T100000
DTEND;TZID=America/Los_Angeles:20240406T110000
DTSTAMP:20260423T063351
CREATED:20240219T224940Z
LAST-MODIFIED:20240301T233632Z
UID:10000260-1712397600-1712401200@wildernessguidescouncil.org
SUMMARY:What's Blooming? WGC Spring Abundance Online Fundraiser
DESCRIPTION:You are warmly invited to the 2024 Spring Abundance Fundraiser. \nJoin us for 1 hour of inspiration. \nWhat’s Blooming?  \nApril\, 6 2024 \n10am – 11am Pacific Time \non Zoom (please RSVP for the link) \nWe will share snippets of all that is Blooming with the WGC. We will invite members of the community to share what is Blooming for you. We will shower you with love\, gratitude\, and inspiration. In times filled with so much uncertainty\, tragedy\, grief – we decided to call in a spring rain shower of all the good and powerful work being done to support people and planet in these transformational times . \nCome hear what is blooming\, give and receive support for your visions\, and help the WGC reach it’s fundraising goals for the year. \nWe can synchronize\, alchemize\, energize in our collective love for people and planet…. \nThis is a free event – We want everyone who wishes to feel the love to be there. Please RSVP using the form below to receive Zoom info and to inquire about sharing what is Blooming for you! \nYou can make a tax deductable contribution towards our Spring Abundance Fundraiser here: \nDONATE HERE \n(RSVP BELOW)
URL:https://wildernessguidescouncil.org/program/whats-blooming-wgc-spring-abudance-online-fundraiser/
LOCATION:Online – Zoom. RSVP for Link
ATTACH;FMTTYPE=image/jpeg:https://wildernessguidescouncil.org/wp-content/uploads/2024/02/flowers-8100386_1280-1.jpg
END:VEVENT
END:VCALENDAR