BEGIN:VCALENDAR
VERSION:2.0
PRODID:-//Wilderness Guides Council - ECPv6.15.17.1//NONSGML v1.0//EN
CALSCALE:GREGORIAN
METHOD:PUBLISH
X-WR-CALNAME:Wilderness Guides Council
X-ORIGINAL-URL:https://wildernessguidescouncil.org
X-WR-CALDESC:Events for Wilderness Guides Council
REFRESH-INTERVAL;VALUE=DURATION:PT1H
X-Robots-Tag:noindex
X-PUBLISHED-TTL:PT1H
BEGIN:VTIMEZONE
TZID:America/Vancouver
BEGIN:DAYLIGHT
TZOFFSETFROM:-0800
TZOFFSETTO:-0700
TZNAME:PDT
DTSTART:20200308T100000
END:DAYLIGHT
BEGIN:STANDARD
TZOFFSETFROM:-0700
TZOFFSETTO:-0800
TZNAME:PST
DTSTART:20201101T090000
END:STANDARD
BEGIN:DAYLIGHT
TZOFFSETFROM:-0800
TZOFFSETTO:-0700
TZNAME:PDT
DTSTART:20210314T100000
END:DAYLIGHT
BEGIN:STANDARD
TZOFFSETFROM:-0700
TZOFFSETTO:-0800
TZNAME:PST
DTSTART:20211107T090000
END:STANDARD
BEGIN:DAYLIGHT
TZOFFSETFROM:-0800
TZOFFSETTO:-0700
TZNAME:PDT
DTSTART:20220313T100000
END:DAYLIGHT
BEGIN:STANDARD
TZOFFSETFROM:-0700
TZOFFSETTO:-0800
TZNAME:PST
DTSTART:20221106T090000
END:STANDARD
END:VTIMEZONE
BEGIN:VEVENT
DTSTART;VALUE=DATE:20210808
DTEND;VALUE=DATE:20210816
DTSTAMP:20260419T063824
CREATED:20210714T014002Z
LAST-MODIFIED:20210715T165106Z
UID:10000161-1628380800-1629071999@wildernessguidescouncil.org
SUMMARY:Brining the Ceremony Home: Local Solo and Nature Immersion with Virtual Base Camp
DESCRIPTION:We welcome you and anyone who hears the call for nature immersion\, ceremony\, and community. We come together in our virtual circle to reconnect with something essential and life-affirming in the midst of chaotic times. Our online community\, base camp\, and time in nature offer space for deep personal reflection\, restoration\, and exploration. \nWhatever our individual situations\, we have all endured the disorientation\, disruption\, and losses brought about by the Covid-19 pandemic. In response to these unique times\, an adjusted ceremonial nature experience is offered\, blending online zoom councils and teachings\, contemplative nature walks\, and a 2-day solo (approximately 12 hours each day). While this alternative program cannot replace a regular vision fast\, it does provide a viable\, meaningful nature connection\, based on vision fast principles and practices. \nLocation \nAll walks and the solo take place wherever you live – state parks\, conservation areas\, mountain trails\, or your favorite creek. \nWho This Is For \nMany people cannot travel now or have health concerns. For others income has been reduced.  Perhaps a full\, in-person vision fast might not be feasible due to family demands. This is an offering to connect with nature wherever you live\, to deepen your roots to your home\, and to find your own wisdom during our time together. \nHow It Works \nWe use the teaching of the Four Shields and sharing councils to help us connect to ourselves\, to each other\, to our own wisdom\, and the natural environment around us. Participants are outside in the natural world every day to immerse in reflection and restoration. Our base camp\, though\, will be virtual. Through the daily contemplative walks\, whole group discussions on zoom\, we’ll keep the program as experiential as possible.  A 48-hour solo deepens intimate connection with the land\, while our virtual base camp creates a supportive community during our time together. \nIntroduction to Contemplative Nature Walks \nContemplative nature walks mimic an actual wilderness solo but take place in a shorter time frame. An intention is set or a reflective task is assigned. Marking a threshold (a line in the dirt\, walking between two trees\, for example)\, you then carry that intention across the threshold into sacred space. With all your senses open\, you wander and let intuition guide your movements. You go alone and fast\, if possible\, for the duration of the walk. You return\, cross your threshold\, and close out that day’s ceremony. Thus\, you will have followed the three stages of any rite of passage: Severance – Threshold – Return/Incorporation.
URL:https://wildernessguidescouncil.org/program/brining-the-ceremony-home-local-solo-and-nature-immersion-with-virtual-base-camp/
LOCATION:Virtual\, United States
ATTACH;FMTTYPE=image/jpeg:https://wildernessguidescouncil.org/wp-content/uploads/2021/06/erin-doering-fbaodQeAcy8-unsplash-scaled.jpg
END:VEVENT
END:VCALENDAR