BEGIN:VCALENDAR
VERSION:2.0
PRODID:-//Wilderness Guides Council - ECPv6.15.17.1//NONSGML v1.0//EN
CALSCALE:GREGORIAN
METHOD:PUBLISH
X-ORIGINAL-URL:https://wildernessguidescouncil.org
X-WR-CALDESC:Events for Wilderness Guides Council
REFRESH-INTERVAL;VALUE=DURATION:PT1H
X-Robots-Tag:noindex
X-PUBLISHED-TTL:PT1H
BEGIN:VTIMEZONE
TZID:America/Los_Angeles
BEGIN:DAYLIGHT
TZOFFSETFROM:-0800
TZOFFSETTO:-0700
TZNAME:PDT
DTSTART:20250309T100000
END:DAYLIGHT
BEGIN:STANDARD
TZOFFSETFROM:-0700
TZOFFSETTO:-0800
TZNAME:PST
DTSTART:20251102T090000
END:STANDARD
BEGIN:DAYLIGHT
TZOFFSETFROM:-0800
TZOFFSETTO:-0700
TZNAME:PDT
DTSTART:20260308T100000
END:DAYLIGHT
BEGIN:STANDARD
TZOFFSETFROM:-0700
TZOFFSETTO:-0800
TZNAME:PST
DTSTART:20261101T090000
END:STANDARD
BEGIN:DAYLIGHT
TZOFFSETFROM:-0800
TZOFFSETTO:-0700
TZNAME:PDT
DTSTART:20270314T100000
END:DAYLIGHT
BEGIN:STANDARD
TZOFFSETFROM:-0700
TZOFFSETTO:-0800
TZNAME:PST
DTSTART:20271107T090000
END:STANDARD
END:VTIMEZONE
BEGIN:VTIMEZONE
TZID:Europe/London
BEGIN:DAYLIGHT
TZOFFSETFROM:+0000
TZOFFSETTO:+0100
TZNAME:BST
DTSTART:20250330T010000
END:DAYLIGHT
BEGIN:STANDARD
TZOFFSETFROM:+0100
TZOFFSETTO:+0000
TZNAME:GMT
DTSTART:20251026T010000
END:STANDARD
BEGIN:DAYLIGHT
TZOFFSETFROM:+0000
TZOFFSETTO:+0100
TZNAME:BST
DTSTART:20260329T010000
END:DAYLIGHT
BEGIN:STANDARD
TZOFFSETFROM:+0100
TZOFFSETTO:+0000
TZNAME:GMT
DTSTART:20261025T010000
END:STANDARD
BEGIN:DAYLIGHT
TZOFFSETFROM:+0000
TZOFFSETTO:+0100
TZNAME:BST
DTSTART:20270328T010000
END:DAYLIGHT
BEGIN:STANDARD
TZOFFSETFROM:+0100
TZOFFSETTO:+0000
TZNAME:GMT
DTSTART:20271031T010000
END:STANDARD
END:VTIMEZONE
BEGIN:VTIMEZONE
TZID:Europe/Madrid
BEGIN:DAYLIGHT
TZOFFSETFROM:+0100
TZOFFSETTO:+0200
TZNAME:CEST
DTSTART:20250330T010000
END:DAYLIGHT
BEGIN:STANDARD
TZOFFSETFROM:+0200
TZOFFSETTO:+0100
TZNAME:CET
DTSTART:20251026T010000
END:STANDARD
BEGIN:DAYLIGHT
TZOFFSETFROM:+0100
TZOFFSETTO:+0200
TZNAME:CEST
DTSTART:20260329T010000
END:DAYLIGHT
BEGIN:STANDARD
TZOFFSETFROM:+0200
TZOFFSETTO:+0100
TZNAME:CET
DTSTART:20261025T010000
END:STANDARD
BEGIN:DAYLIGHT
TZOFFSETFROM:+0100
TZOFFSETTO:+0200
TZNAME:CEST
DTSTART:20270328T010000
END:DAYLIGHT
BEGIN:STANDARD
TZOFFSETFROM:+0200
TZOFFSETTO:+0100
TZNAME:CET
DTSTART:20271031T010000
END:STANDARD
END:VTIMEZONE
BEGIN:VEVENT
DTSTART;TZID=America/Los_Angeles:20260612T090000
DTEND;TZID=America/Los_Angeles:20260619T170000
DTSTAMP:20260423T062038
CREATED:20250716T045526Z
LAST-MODIFIED:20250716T045526Z
UID:10000304-1781254800-1781888400@wildernessguidescouncil.org
SUMMARY:Summer Vision Fast - Blue Ridge Mountain
DESCRIPTION:This eight-day retreat functions as a Ceremony of Becoming\, allowing you to step into a more meaningful and complete version of your life with the help of nature and a small community of individuals. You are invited to leave your current life behind\, severing from work\, relationships\, household duties\, school\, social media and the everyday constant flow of life. You will find yourself in a beautiful wooded space set aside for spiritual retreats and journeys\, and enter into a guided ceremony where your perspectives and outlook will broaden and change. With your boundaries and walls becoming more permeable\, your essential questions are allowed to come to the forefront:\nWhat am I ready to leave behind? What am I moving into? What really is the point of it all? What do I have to offer this world? What is most essential in me that brings life and love? What do I need to let die so that a new life can be reborn?\nThere are 6 spots open for this summer\, and we are donation based\, asking participants to give what they can at an appropriate amount reflective of their life situation. LGBTQ+ community is welcomed and honored with open arms and hearts.
URL:https://wildernessguidescouncil.org/program/summer-vision-fast-blue-ridge-mountain-3/
LOCATION:Friends Wilderness Center\, West Virginia\, Harpers Ferry\, WV\, United States
CATEGORIES:Rites of Passage
ATTACH;FMTTYPE=image/jpeg:https://wildernessguidescouncil.org/wp-content/uploads/2025/07/PXL_20250708_024736969.MP_-scaled.jpg
ORGANIZER;CN="Bryan Bieniek":MAILTO:bryan@outdoortherapeutics.com
END:VEVENT
BEGIN:VEVENT
DTSTART;TZID=Europe/London:20260825T150000
DTEND;TZID=Europe/London:20260906T100000
DTSTAMP:20260423T062038
CREATED:20260316T193146Z
LAST-MODIFIED:20260316T193146Z
UID:10000315-1787670000-1788688800@wildernessguidescouncil.org
SUMMARY:International Vision Quest | Findhorn Scotland
DESCRIPTION:Late summer Werner Pilz and Natasha Lythgoe will return to Findhorn to guide a quest on behalf of the Eschwege Institut one of the leading guide training institutes in Europe. \nYou can read about our programme at either of these links: \nhttps://eschwege-institut.de/programm/seminare/visionssuche-in-findhorn-schottland-5/\nhttps://www.theartofrewilding.com/events/vision-quest-scotland-uk-2026 \nIf you are interested in eco-somatics we may be a good fit for you. Here is an excerpt from my website about Embodied Animacy. \nThe principle of animism is a way of perceiving and engaging with a living and animate earth\, including all the seen and unseen beings that inhabit it. This alive connection emerges not through abstract thinking but through direct experience – rooted in our direct sensory experience – and a cultivation of reciprocal relationship. This is a participatory way of being\, where humans are just one among many expressive participants in the dynamic\, interconnected fabric of life. \nAnimism is a deeply\, relational way of being in the world\, encouraging us to remember that we are not separate from the natural world\, but are woven into the fabric of life itself. \nGene Gendlin’s Focusing method\, though often seen as a contemporary approach to self-awareness with its origins in psychotherapy and philosophy\, carries a similar invitation. On a very simple level Focusing is a somatic practice\, where we turn our attention inward\, tuning into the subtle\, unspoken language of our bodies. It is through this body-based listening that we find clarity and healing\, accessing wisdom beyond the reach of the mind alone. \nAt first glance\, these two paths might seem worlds apart—one rooted in ancient spiritual traditions\, the other in contemporary therapeutic practice. However\, a closer look reveals their shared essence: both call us to a profound\, deeper listening to life unfolding within and around us. \nSince 2019\, I’ve focused on creating practices that foster embodied relational reciprocity\, drawing on the Focusing method and nature connection. I integrate aspects of this work into the preparation stage for all our vision quests.
URL:https://wildernessguidescouncil.org/program/international-vision-quest-findhorn-scotland/
LOCATION:Findhorn\, Scotland\, IV36 3AE\, United Kingdom
CATEGORIES:Adults,Rites of Passage
ATTACH;FMTTYPE=image/png:https://wildernessguidescouncil.org/wp-content/uploads/2026/03/vision-quest-scotland-1-1.png
ORGANIZER;CN="Natasha Lythgoe":MAILTO:natashafayelythgoe@gmail.com
END:VEVENT
BEGIN:VEVENT
DTSTART;VALUE=DATE:20260917
DTEND;VALUE=DATE:20260927
DTSTAMP:20260423T062038
CREATED:20260302T200120Z
LAST-MODIFIED:20260302T212240Z
UID:10000314-1789603200-1790467199@wildernessguidescouncil.org
SUMMARY:Women’s Fast
DESCRIPTION:Ten day adult fast ceremony in the tradition of the School of Lost Borders.\nThis is a ceremony of living and dying\, of death and rebirth\, and so of authentic growth. It gives you the time\, space and strong container to dig deep\, and to die to what no longer serves you so that you may hear your soul’s genius\, echoed in the clear mirror of Nature.\nThis contemporary rites of passage ceremony is for the purpose of:\n      • marking a new life phase or transition; dying to what was and being reborn to what is to come\n      • re-membering your connection to Self\, the Source\, and others\n      • uncovering vital aspects of your soul’s genius\n      • your empowerment for action in the world\nIf you hear a call\, we’d love to see you there!
URL:https://wildernessguidescouncil.org/program/womens-fast/
CATEGORIES:Adults,Rites of Passage
ATTACH;FMTTYPE=image/jpeg:https://wildernessguidescouncil.org/wp-content/uploads/2026/03/WVF2025_1-1-scaled.jpeg
ORGANIZER;CN="Kinde Nebeker":MAILTO:kinde@newmoonritesofpassage.com
END:VEVENT
BEGIN:VEVENT
DTSTART;TZID=Europe/Madrid:20261016T150000
DTEND;TZID=Europe/Madrid:20261025T120000
DTSTAMP:20260423T062038
CREATED:20260316T193349Z
LAST-MODIFIED:20260316T193349Z
UID:10000316-1792162800-1792929600@wildernessguidescouncil.org
SUMMARY:Rite of Passage - 10-day Vision Fast (Oct 16-25\, Spain)
DESCRIPTION:We are amidst a collective unraveling and rite of passage. A betwixt and between time that is both deeply unsettling and full of possibility. Our lives are shifting\, the climate is changing\, antiquated systems and structures are breaking down. You yourself may be going through a life change: a new\njob\, aging parents\, kids leaving the home… \nThis is a moment ripe for change. \nWhat is this time asking of you? What is next for you? What is your individual and collective responsibility to tend to our communities\, cultures\, and planet? How can your personal and professional leadership be rooted in wholeness and integrity? Significant life transitions invite our hearts\, minds and bodies to open to new ways of being. What is no longer serving you? What needs to be let go? What seeds do you want to plant for the future? \nThis 10-day program\, including a 3-day/3-night Vision Fast\, is offered by TrailHaven in collaboration with guides from the School of Lost Borders\, and is designed to explore what’s next in your life\, and to celebrate your commitment to yourself\, your dreams\, your communities and the wider world. \nAre you ready to cross the threshold?
URL:https://wildernessguidescouncil.org/program/rite-of-passage-10-day-vision-fast-oct-16-25-spain/
LOCATION:Pyrenees\, Spain\, Barcelona\, Spain
CATEGORIES:Rites of Passage
ATTACH;FMTTYPE=image/png:https://wildernessguidescouncil.org/wp-content/uploads/2026/03/Screenshot-2026-03-16-at-10.05.02.png
ORGANIZER;CN="TrailHaven + School of Lost Borders":MAILTO:info@trailhaven.com
END:VEVENT
END:VCALENDAR