BEGIN:VCALENDAR
VERSION:2.0
PRODID:-//Wilderness Guides Council - ECPv6.15.17.1//NONSGML v1.0//EN
CALSCALE:GREGORIAN
METHOD:PUBLISH
X-WR-CALNAME:Wilderness Guides Council
X-ORIGINAL-URL:https://wildernessguidescouncil.org
X-WR-CALDESC:Events for Wilderness Guides Council
REFRESH-INTERVAL;VALUE=DURATION:PT1H
X-Robots-Tag:noindex
X-PUBLISHED-TTL:PT1H
BEGIN:VTIMEZONE
TZID:America/Los_Angeles
BEGIN:DAYLIGHT
TZOFFSETFROM:-0800
TZOFFSETTO:-0700
TZNAME:PDT
DTSTART:20250309T100000
END:DAYLIGHT
BEGIN:STANDARD
TZOFFSETFROM:-0700
TZOFFSETTO:-0800
TZNAME:PST
DTSTART:20251102T090000
END:STANDARD
BEGIN:DAYLIGHT
TZOFFSETFROM:-0800
TZOFFSETTO:-0700
TZNAME:PDT
DTSTART:20260308T100000
END:DAYLIGHT
BEGIN:STANDARD
TZOFFSETFROM:-0700
TZOFFSETTO:-0800
TZNAME:PST
DTSTART:20261101T090000
END:STANDARD
BEGIN:DAYLIGHT
TZOFFSETFROM:-0800
TZOFFSETTO:-0700
TZNAME:PDT
DTSTART:20270314T100000
END:DAYLIGHT
BEGIN:STANDARD
TZOFFSETFROM:-0700
TZOFFSETTO:-0800
TZNAME:PST
DTSTART:20271107T090000
END:STANDARD
END:VTIMEZONE
BEGIN:VEVENT
DTSTART;VALUE=DATE:20260315
DTEND;VALUE=DATE:20260322
DTSTAMP:20260419T064338
CREATED:20250908T133244Z
LAST-MODIFIED:20250908T133244Z
UID:10000306-1773532800-1774137599@wildernessguidescouncil.org
SUMMARY:Co-Ed Wilderness Vigil in the Sacred Valley of Peru
DESCRIPTION:This Wilderness Vigil is a structured program combining ancient rite-of-passage traditions with modern wilderness therapy practices. Participants undergo a three-phase journey (Severance\, Threshold\, Incorporation) including 3 days/nights of solo wilderness experience supported by comprehensive safety protocols and professional facilitation.\nThis program honors both indigenous Andean traditions and pan-cultural vision quest practices\, conducted in partnership with local Q’ero communities and in accordance with Wilderness Guides Council ethical standards. \nPROGRAM OBJECTIVES\nParticipants will:\nDevelop self-reliance through extended solo wilderness experience\nPractice mindfulness and presence through structured solitude and nature immersion\nNavigate life transitions using wilderness as mirror and teacher\nBuild resilience through voluntary discomfort and weather exposure\nCultivate inner clarity through removal of external distractions\nConnect with nature as a source of guidance and reflection\nIntegrate experiences through structured storytelling and witnessing \nTherapeutic Goals:\nProcess life transitions and threshold moments\nClarify personal values and life purpose\nRelease outdated patterns and beliefs\nStrengthen connection to inner wisdom\nDevelop practices for ongoing self-reflection \nPROGRAM STRUCTURE\nPhase 1: SEVERANCE (Days 1-2)\nObjective: Prepare participants physically\, mentally\, and spiritually for solo experience\nActivities:\nOpening council and intention setting\nLand orientation and site selection\nSafety briefings and emergency protocols \nPhase 2: THRESHOLD (Days 3-5)\nObjective: Facilitate transformative solo wilderness experience\nFormat: 3 days/3 nights solo fasting vigil (water only\, food modifications available) \nPhase 3: INCORPORATION (Days 6-7)\nObjective: Integrate solo experience and bridge to daily life\nActivities:\nThreshold return ceremony \nRISK MANAGEMENT & SAFETY PROTOCOLS\nEnvironmental Hazards & Mitigation\nAltitude (12\,000 ft):\n2-day acclimatization before solo\nParticipant screening for altitude sensitivity\nEvacuation plan for altitude sickness\nPulse oximeter monitoring available \nWeather (Rainy Season):\nComprehensive weather briefings\nQuality shelter requirements (10×10 silnylon tarps minimum)\nWool/synthetic clothing requirements\nLightning safety protocols\nFlash flood avoidance site selection \nWildlife:\nParticipant education on local fauna\nFood storage protocols (though fasting)\nScorpion/spider prevention practices \nMedical & Emergency Protocols\nPre-Quest Screening:\nComprehensive medical history form\nMental health assessment\nPrescription medication management\nDietary restriction accommodations \nOn-Site Safety:\nSatellite communication device (Zoleo)\nFirst aid station at base camp\nEvacuation insurance required\nLocal medical contact established (Clinica Cusco)\nEmergency evacuation plan (30-minute to road access) \nParticipant Safety Gear:\nList provided upon registration \nPsychological Safety\nScreening Process:\nApplication and interview required\nMental health history reviewed\nPrevious wilderness experience assessed\nSupport system evaluation \nSupport Protocols:\nDaily welfare checks\nOption to return to base camp anytime\nPost-quest integration support (30 days)\nProfessional referral network available \nCULTURAL CONSIDERATIONS\nIndigenous Partnership\nProgram conducted with permission from local Q’ero communities\nLand use fees paid to Comunidad Campesina de Maras\nLocal guides hired as cultural liaisons\nTraditional offerings ceremony included (despacho)\nCultural protocols and taboos respected \nEthical Framework\nAcknowledgment of traditional vision quest origins\nRespect for Andean cosmology and practices\nNo appropriation of specific indigenous ceremonies\nClear distinction between inspired-by vs. traditional practices\nEconomic benefit to local communities prioritized \nPOST-PROGRAM SUPPORT\nIntegration Offerings\n30-day email support included\nGroup video call at 2 weeks\n1:1 integration session available\nResource list for continued practice\nReferral network for ongoing support \nPROGRAM PRICING\nStandard Tuition: $2\,199 USD\nIncludes all programming\, meals\, local transport\, and 30-day integration support\nDoes not include: flights\, personal gear\, evacuation insurance\, gratuities \nEarly Registration: $1\,799 USD (before Jan\, 2026)\nNeed-Based Scholarships: 2 spots per program at 50% reduction\nPayment plans available
URL:https://wildernessguidescouncil.org/program/co-ed-wilderness-vigil-in-the-sacred-valley-of-peru/
LOCATION:KDOL Saltspring Island\, Mount Tuam Rd.\, Saltspring Island\, British Columbia\, Canada
CATEGORIES:Adults,BIPOC,Rites of Passage
ATTACH;FMTTYPE=image/jpeg:https://wildernessguidescouncil.org/wp-content/uploads/2025/08/61f469d0-7d32-11f0-a6b9-4928b409d2a6-2.jpg
ORGANIZER;CN="Ish Hasan":MAILTO:ish@radicaleros.com
END:VEVENT
END:VCALENDAR