BEGIN:VCALENDAR
VERSION:2.0
PRODID:-//Wilderness Guides Council - ECPv6.15.17.1//NONSGML v1.0//EN
CALSCALE:GREGORIAN
METHOD:PUBLISH
X-WR-CALNAME:Wilderness Guides Council
X-ORIGINAL-URL:https://wildernessguidescouncil.org
X-WR-CALDESC:Events for Wilderness Guides Council
REFRESH-INTERVAL;VALUE=DURATION:PT1H
X-Robots-Tag:noindex
X-PUBLISHED-TTL:PT1H
BEGIN:VTIMEZONE
TZID:America/Los_Angeles
BEGIN:DAYLIGHT
TZOFFSETFROM:-0800
TZOFFSETTO:-0700
TZNAME:PDT
DTSTART:20210314T100000
END:DAYLIGHT
BEGIN:STANDARD
TZOFFSETFROM:-0700
TZOFFSETTO:-0800
TZNAME:PST
DTSTART:20211107T090000
END:STANDARD
BEGIN:DAYLIGHT
TZOFFSETFROM:-0800
TZOFFSETTO:-0700
TZNAME:PDT
DTSTART:20220313T100000
END:DAYLIGHT
BEGIN:STANDARD
TZOFFSETFROM:-0700
TZOFFSETTO:-0800
TZNAME:PST
DTSTART:20221106T090000
END:STANDARD
BEGIN:DAYLIGHT
TZOFFSETFROM:-0800
TZOFFSETTO:-0700
TZNAME:PDT
DTSTART:20230312T100000
END:DAYLIGHT
BEGIN:STANDARD
TZOFFSETFROM:-0700
TZOFFSETTO:-0800
TZNAME:PST
DTSTART:20231105T090000
END:STANDARD
BEGIN:DAYLIGHT
TZOFFSETFROM:-0800
TZOFFSETTO:-0700
TZNAME:PDT
DTSTART:20240310T100000
END:DAYLIGHT
BEGIN:STANDARD
TZOFFSETFROM:-0700
TZOFFSETTO:-0800
TZNAME:PST
DTSTART:20241103T090000
END:STANDARD
END:VTIMEZONE
BEGIN:VTIMEZONE
TZID:America/New_York
BEGIN:DAYLIGHT
TZOFFSETFROM:-0500
TZOFFSETTO:-0400
TZNAME:EDT
DTSTART:20210314T070000
END:DAYLIGHT
BEGIN:STANDARD
TZOFFSETFROM:-0400
TZOFFSETTO:-0500
TZNAME:EST
DTSTART:20211107T060000
END:STANDARD
BEGIN:DAYLIGHT
TZOFFSETFROM:-0500
TZOFFSETTO:-0400
TZNAME:EDT
DTSTART:20220313T070000
END:DAYLIGHT
BEGIN:STANDARD
TZOFFSETFROM:-0400
TZOFFSETTO:-0500
TZNAME:EST
DTSTART:20221106T060000
END:STANDARD
BEGIN:DAYLIGHT
TZOFFSETFROM:-0500
TZOFFSETTO:-0400
TZNAME:EDT
DTSTART:20230312T070000
END:DAYLIGHT
BEGIN:STANDARD
TZOFFSETFROM:-0400
TZOFFSETTO:-0500
TZNAME:EST
DTSTART:20231105T060000
END:STANDARD
END:VTIMEZONE
BEGIN:VEVENT
DTSTART;VALUE=DATE:20220612
DTEND;VALUE=DATE:20230325
DTSTAMP:20260421T091846
CREATED:20220119T144404Z
LAST-MODIFIED:20220119T150001Z
UID:10000182-1654992000-1679702399@wildernessguidescouncil.org
SUMMARY:INTERNATIONAL VISION QUEST – SOUTH AFRICA
DESCRIPTION:International Vision Quest\n13-24 Mars 2023\nCape Town\, Afrique du Sud \nVenez-nous rejoindre sur l’ancienne terre d’ Afrique! \nCette quête de vision est une offre à la communauté internationale\, un appel à nous retrouver ensemble en cérémonie pour manifester la sagesse de notre diversité. Nous rassembler en Afrique du Sud\, au berceau du genre humain. \nUne invitation à explorer ton intime vérité et à la partager en communauté\, sur cette terre qui détient notre intelligence et notre savoir commun.\nVenir affirmer ta « médecine » – pour soi\, la communauté et le monde plus vaste que nous partageons. \nCette quête demande de connaître l’anglais\, au moins de le comprendre même si on choisit ensuite de s’exprimer en français dans le groupe.\nPour les modalités du voyage et avant de s’inscrire\, merci de me contacter personnellement par email carine@ceuxdici.ch \nLe groupe est limité à 12 personnes.\nLa cérémonie commence au mois de juin 2022\, avec 5 appels vidéo de préparation et d’enseignement.\nGroup calls 12 June 2022\, 7 August 2022\, 16 October 2022\, 11 December 2022\, 12 February 2023. \nBienvenue si tu entends résonner cet appel important.
URL:https://wildernessguidescouncil.org/program/international-vision-quest-south-africa/
LOCATION:GROOT WINTERHOEK WILDERNESS AREA\, South Africa
CATEGORIES:Adults,Rites of Passage
ATTACH;FMTTYPE=image/jpeg:https://wildernessguidescouncil.org/wp-content/uploads/2022/01/9FC65B02-0B90-4458-8D65-795AA22DDA84-2-scaled.jpeg
ORGANIZER;CN="CARINE ROTH":MAILTO:CARINE@CEUXDICI.CH
END:VEVENT
BEGIN:VEVENT
DTSTART;TZID=America/New_York:20220722T100000
DTEND;TZID=America/New_York:20220731T100000
DTSTAMP:20260421T091846
CREATED:20220402T145942Z
LAST-MODIFIED:20220619T144044Z
UID:10000175-1658484000-1659261600@wildernessguidescouncil.org
SUMMARY:Wilderness Ceremony of Becoming | ONLY ONE SPOT REMAINING
DESCRIPTION:This ten-day retreat functions as a Ceremony of Becoming\, allowing you to step into a more meaningful and complete version of your life with the help of nature and a small community of individuals. You are invited to leave your current life behind\, severing from work\, relationships\, household duties\, school\, social media and the everyday constant flow of life. You will find yourself in a beautiful wooded space set aside for spiritual retreats and journeys\, and enter into a guided ceremony where your perspectives and outlook will broaden and change. With your boundaries and walls becoming more permeable\, your essential questions are allowed to come to the forefront:\nWhat am I ready to leave behind? What am I moving into? What really is the point of it all? What do I have to offer this world? What is most essential in me that brings life and love? What do I need to let die so that a new life can be reborn?\nThere are ten spots open for this summer\, and we are donation based\, asking participants to give what they can at an appropriate amount reflective of their life situation. LGBTQ+ community is welcomed and honored with open arms and hearts.
URL:https://wildernessguidescouncil.org/program/wilderness-rites-of-passage/
LOCATION:Friends Wilderness Center\, West Virginia\, Harpers Ferry\, WV\, United States
ATTACH;FMTTYPE=image/jpeg:https://wildernessguidescouncil.org/wp-content/uploads/2022/04/spiral.jpg
ORGANIZER;CN="Bryan Bieniek":MAILTO:bryan@outdoortherapeutics.com
END:VEVENT
END:VCALENDAR