BEGIN:VCALENDAR
VERSION:2.0
PRODID:-//Wilderness Guides Council - ECPv6.15.17.1//NONSGML v1.0//EN
CALSCALE:GREGORIAN
METHOD:PUBLISH
X-WR-CALNAME:Wilderness Guides Council
X-ORIGINAL-URL:https://wildernessguidescouncil.org
X-WR-CALDESC:Events for Wilderness Guides Council
REFRESH-INTERVAL;VALUE=DURATION:PT1H
X-Robots-Tag:noindex
X-PUBLISHED-TTL:PT1H
BEGIN:VTIMEZONE
TZID:Europe/London
BEGIN:DAYLIGHT
TZOFFSETFROM:+0000
TZOFFSETTO:+0100
TZNAME:BST
DTSTART:20210328T010000
END:DAYLIGHT
BEGIN:STANDARD
TZOFFSETFROM:+0100
TZOFFSETTO:+0000
TZNAME:GMT
DTSTART:20211031T010000
END:STANDARD
BEGIN:DAYLIGHT
TZOFFSETFROM:+0000
TZOFFSETTO:+0100
TZNAME:BST
DTSTART:20220327T010000
END:DAYLIGHT
BEGIN:STANDARD
TZOFFSETFROM:+0100
TZOFFSETTO:+0000
TZNAME:GMT
DTSTART:20221030T010000
END:STANDARD
BEGIN:DAYLIGHT
TZOFFSETFROM:+0000
TZOFFSETTO:+0100
TZNAME:BST
DTSTART:20230326T010000
END:DAYLIGHT
BEGIN:STANDARD
TZOFFSETFROM:+0100
TZOFFSETTO:+0000
TZNAME:GMT
DTSTART:20231029T010000
END:STANDARD
END:VTIMEZONE
BEGIN:VEVENT
DTSTART;TZID=Europe/London:20220416T150000
DTEND;TZID=Europe/London:20220427T090000
DTSTAMP:20260421T074219
CREATED:20220112T051541Z
LAST-MODIFIED:20220112T051541Z
UID:10000169-1650121200-1651050000@wildernessguidescouncil.org
SUMMARY:Spring Vision Fast – Crete
DESCRIPTION:” May all the spirits bless you\, for the way you showed me a way through and all you taught me. Such a great gift I carry in my heart\, every day. I owe you a new life.”\n– excerpt from a letter we received a year after a this mans vision fast \nThis Spring we’ll guide our twelve-day fast in the southernmost mountainous region of Europe; Asterousia. This land steeped in myth gifts us with cave monasteries long inhabited by hermits and religious pilgrims\, with the soaring wings of vultures\, Cretan sun and the Libyan sea. \nThroughout time and across cultures people have gone into the natural world to mark and celebrate significant life transitions. Vision fasts are modern day rites of passage that help navigate the complexity of these times; time away from the everyday\, making space and to connect with deeper purpose and wisdom to carry through life. \nAt the heart of our time together lies a four day solitary immersion into nature\, with minimal or no food – this is often a profound\, deeply nourishing and transformative experience for people. \nWhilst the solo fast itself will involve setting off alone into the stunning and varied local terrain\, our base camp accommodation\, where we will stay during the preparation and integration phases in a very small nearby village. We will have simple studios – all ensuite\, with individual cooking facilities with everything you may need for your stay. \nThe village itself is characterised by the warm hospitality of a few locals who live there during these quiet times of the year and surrounding the village is the land where we will make our preparation and integration practices. \nGuides: Werner Pilz and Natasha Lythgoe \nFor more details\, video testimonials and photographs of the region please go to the website link here.
URL:https://wildernessguidescouncil.org/program/spring-vision-fast-crete/
LOCATION:Crete\, Greece
CATEGORIES:Adults,Rites of Passage
ATTACH;FMTTYPE=image/png:https://wildernessguidescouncil.org/wp-content/uploads/2022/01/Screen-Shot-2022-01-11-at-19.59.03.png
ORGANIZER;CN="Natasha Lythgoe":MAILTO:natashafayelythgoe@gmail.com
END:VEVENT
END:VCALENDAR