BEGIN:VCALENDAR
VERSION:2.0
PRODID:-//Wilderness Guides Council - ECPv6.15.17.1//NONSGML v1.0//EN
CALSCALE:GREGORIAN
METHOD:PUBLISH
X-ORIGINAL-URL:https://wildernessguidescouncil.org
X-WR-CALDESC:Events for Wilderness Guides Council
REFRESH-INTERVAL;VALUE=DURATION:PT1H
X-Robots-Tag:noindex
X-PUBLISHED-TTL:PT1H
BEGIN:VTIMEZONE
TZID:America/Los_Angeles
BEGIN:DAYLIGHT
TZOFFSETFROM:-0800
TZOFFSETTO:-0700
TZNAME:PDT
DTSTART:20230312T100000
END:DAYLIGHT
BEGIN:STANDARD
TZOFFSETFROM:-0700
TZOFFSETTO:-0800
TZNAME:PST
DTSTART:20231105T090000
END:STANDARD
BEGIN:DAYLIGHT
TZOFFSETFROM:-0800
TZOFFSETTO:-0700
TZNAME:PDT
DTSTART:20240310T100000
END:DAYLIGHT
BEGIN:STANDARD
TZOFFSETFROM:-0700
TZOFFSETTO:-0800
TZNAME:PST
DTSTART:20241103T090000
END:STANDARD
BEGIN:DAYLIGHT
TZOFFSETFROM:-0800
TZOFFSETTO:-0700
TZNAME:PDT
DTSTART:20250309T100000
END:DAYLIGHT
BEGIN:STANDARD
TZOFFSETFROM:-0700
TZOFFSETTO:-0800
TZNAME:PST
DTSTART:20251102T090000
END:STANDARD
END:VTIMEZONE
BEGIN:VTIMEZONE
TZID:America/Denver
BEGIN:DAYLIGHT
TZOFFSETFROM:-0700
TZOFFSETTO:-0600
TZNAME:MDT
DTSTART:20210314T090000
END:DAYLIGHT
BEGIN:STANDARD
TZOFFSETFROM:-0600
TZOFFSETTO:-0700
TZNAME:MST
DTSTART:20211107T080000
END:STANDARD
BEGIN:DAYLIGHT
TZOFFSETFROM:-0700
TZOFFSETTO:-0600
TZNAME:MDT
DTSTART:20220313T090000
END:DAYLIGHT
BEGIN:STANDARD
TZOFFSETFROM:-0600
TZOFFSETTO:-0700
TZNAME:MST
DTSTART:20221106T080000
END:STANDARD
BEGIN:DAYLIGHT
TZOFFSETFROM:-0700
TZOFFSETTO:-0600
TZNAME:MDT
DTSTART:20230312T090000
END:DAYLIGHT
BEGIN:STANDARD
TZOFFSETFROM:-0600
TZOFFSETTO:-0700
TZNAME:MST
DTSTART:20231105T080000
END:STANDARD
END:VTIMEZONE
BEGIN:VEVENT
DTSTART;VALUE=DATE:20240919
DTEND;VALUE=DATE:20240929
DTSTAMP:20260323T060155
CREATED:20240219T165809Z
LAST-MODIFIED:20240219T165809Z
UID:10000256-1726704000-1727567999@wildernessguidescouncil.org
SUMMARY:Women's Vision Fast
DESCRIPTION:This 2024 Women’s Quest will take place in the beautiful Steens Mountain Wilderness in Southeast Oregon\, near a gentle creek and within juniper and sagebrush country.\nThis is a ten-day experience\, including three days of fasting in solitude — your vision fast. You will receive physical\, psychological\, and spiritual preparation in group. Upon returning from your fast\, there will be support to intentionally integrate the learnings and experience in order to prepare to go forward to your life at home.\nYour guides will be Nicole Medema of Cascadia Quest and Kinde Nebeker of New Moon Rites of Passage.
URL:https://wildernessguidescouncil.org/program/womens-vision-fast/
CATEGORIES:Adults,Rites of Passage
ATTACH;FMTTYPE=image/jpeg:https://wildernessguidescouncil.org/wp-content/uploads/2024/02/Steens_Fall_2018-1.jpg
ORGANIZER;CN="Cascadia Quest":MAILTO:center@cascadiaquest.org
END:VEVENT
BEGIN:VEVENT
DTSTART;TZID=America/Denver:20220906T110000
DTEND;TZID=America/Denver:20220913T120000
DTSTAMP:20260323T060155
CREATED:20211230T183818Z
LAST-MODIFIED:20220714T230107Z
UID:10000173-1662462000-1663070400@wildernessguidescouncil.org
SUMMARY:Secret Canyon: Utah Vision Fast 2022
DESCRIPTION:A few spots are left!! Sign up at https://www.newmoonritesofpassage.com/utah-fast\nYou are invited to join us on this 9-day vision fast ceremony\, enacted in high desert ranch land of Utah.\nThis vision fast trip is offered once a year and performed in a pan-cultural form (as taught by the School of Lost Borders). We will form a community and explore together the deepest meaning of our lives both personally and collectively\, and what it is to be fully human. This is a ceremony of living and dying\, of death and rebirth\, and so of authentic growth. It gives you the opportunity and space to dig deep\, and to die to what no longer serves you so that you may hear your soul’s genius\, echoed in the clear mirror of Nature.
URL:https://wildernessguidescouncil.org/program/secret-canyon-utah-vision-fast-2022/
LOCATION:South Eden Ranch\, Bear Lake\, Utah\, Laketown\, UT\, 84038\, United States
CATEGORIES:Adults,Rites of Passage
ATTACH;FMTTYPE=image/jpeg:https://wildernessguidescouncil.org/wp-content/uploads/2021/12/IMG_8172-scaled.jpeg
ORGANIZER;CN="Kinde Nebeker":MAILTO:kinde@newmoonritesofpassage.com
END:VEVENT
END:VCALENDAR